BEGIN:VCALENDAR
VERSION:2.0
PRODID:-//Mentora Institute - ECPv6.15.14//NONSGML v1.0//EN
CALSCALE:GREGORIAN
METHOD:PUBLISH
X-ORIGINAL-URL:https://mentora.institute
X-WR-CALDESC:Events for Mentora Institute
REFRESH-INTERVAL;VALUE=DURATION:PT1H
X-Robots-Tag:noindex
X-PUBLISHED-TTL:PT1H
BEGIN:VTIMEZONE
TZID:America/New_York
BEGIN:DAYLIGHT
TZOFFSETFROM:-0500
TZOFFSETTO:-0400
TZNAME:EDT
DTSTART:20240310T070000
END:DAYLIGHT
BEGIN:STANDARD
TZOFFSETFROM:-0400
TZOFFSETTO:-0500
TZNAME:EST
DTSTART:20241103T060000
END:STANDARD
BEGIN:DAYLIGHT
TZOFFSETFROM:-0500
TZOFFSETTO:-0400
TZNAME:EDT
DTSTART:20250309T070000
END:DAYLIGHT
BEGIN:STANDARD
TZOFFSETFROM:-0400
TZOFFSETTO:-0500
TZNAME:EST
DTSTART:20251102T060000
END:STANDARD
BEGIN:DAYLIGHT
TZOFFSETFROM:-0500
TZOFFSETTO:-0400
TZNAME:EDT
DTSTART:20260308T070000
END:DAYLIGHT
BEGIN:STANDARD
TZOFFSETFROM:-0400
TZOFFSETTO:-0500
TZNAME:EST
DTSTART:20261101T060000
END:STANDARD
END:VTIMEZONE
BEGIN:VEVENT
DTSTART;TZID=America/New_York:20251021T160000
DTEND;TZID=America/New_York:20251021T170000
DTSTAMP:20260423T005600
CREATED:20250919T104812Z
LAST-MODIFIED:20251006T090350Z
UID:20457-1761062400-1761066000@mentora.institute
SUMMARY:Transformative Leadership Academy (TLA) Information Session
DESCRIPTION:At this joyful and reflective gathering\, you will hear from Dr. Hitendra Wadhwa about the Transformative Leadership Academy launch and mission\, meet our founding participants\, and connect in small groups with fellow interested applicants and leaders. You will also learn more about the program structure and experience\, along with details on how to apply. \nRegister here. \nBackground on the Transformative Leadership Academy\nThe Transformative Leadership Academy (TLA) is now accepting applications for our 2026 program\, following a successful pilot in 2025. TLA is a scholarship-based* summer residential program taking place in late May 2026\, which trains an exceptionally talented and committed group of college students to live and lead from their spiritual core and become exemplary changemakers in their careers and communities. The curriculum will kick off in March with a virtual orientation and individually-paced pre-work. To learn more\, visit our website.
URL:https://mentora.institute/event/transformative-leadership-academy-tla-information-session/
END:VEVENT
END:VCALENDAR