BEGIN:VCALENDAR
VERSION:2.0
PRODID:-//Mentora Institute - ECPv6.15.14//NONSGML v1.0//EN
CALSCALE:GREGORIAN
METHOD:PUBLISH
X-WR-CALNAME:Mentora Institute
X-ORIGINAL-URL:https://mentora.institute
X-WR-CALDESC:Events for Mentora Institute
REFRESH-INTERVAL;VALUE=DURATION:PT1H
X-Robots-Tag:noindex
X-PUBLISHED-TTL:PT1H
BEGIN:VTIMEZONE
TZID:America/New_York
BEGIN:DAYLIGHT
TZOFFSETFROM:-0500
TZOFFSETTO:-0400
TZNAME:EDT
DTSTART:20220313T070000
END:DAYLIGHT
BEGIN:STANDARD
TZOFFSETFROM:-0400
TZOFFSETTO:-0500
TZNAME:EST
DTSTART:20221106T060000
END:STANDARD
BEGIN:DAYLIGHT
TZOFFSETFROM:-0500
TZOFFSETTO:-0400
TZNAME:EDT
DTSTART:20230312T070000
END:DAYLIGHT
BEGIN:STANDARD
TZOFFSETFROM:-0400
TZOFFSETTO:-0500
TZNAME:EST
DTSTART:20231105T060000
END:STANDARD
BEGIN:DAYLIGHT
TZOFFSETFROM:-0500
TZOFFSETTO:-0400
TZNAME:EDT
DTSTART:20240310T070000
END:DAYLIGHT
BEGIN:STANDARD
TZOFFSETFROM:-0400
TZOFFSETTO:-0500
TZNAME:EST
DTSTART:20241103T060000
END:STANDARD
END:VTIMEZONE
BEGIN:VEVENT
DTSTART;TZID=America/New_York:20231212T120000
DTEND;TZID=America/New_York:20231212T130000
DTSTAMP:20260423T041843
CREATED:20231129T182340Z
LAST-MODIFIED:20231129T185312Z
UID:12897-1702382400-1702386000@mentora.institute
SUMMARY:Mentora Life Information Session
DESCRIPTION:You’re invited to join the Mentora Life team\, along with others interested in joining\, for a joyful\, reflective\, and connected space to introduce you to the Mentora Life program. Learn more about Mentora Life \nTuesday\, December 12th\, from 12-1 ET via Zoom. Register here. \n 
URL:https://mentora.institute/event/mentora-com-life-info-session-dec-12-2023/
CATEGORIES:Webinars
ATTACH;FMTTYPE=image/jpeg:https://mentora.institute/wp-content/uploads/2023/10/Mentora-Life-hero-image-rotated.jpg
END:VEVENT
END:VCALENDAR